BEGIN:VCALENDAR
VERSION:2.0
PRODID:-//Ocho sentidos - ECPv6.7.0//NONSGML v1.0//EN
CALSCALE:GREGORIAN
METHOD:PUBLISH
X-ORIGINAL-URL:https://ochosentidos.com
X-WR-CALDESC:Eventos para Ocho sentidos
REFRESH-INTERVAL;VALUE=DURATION:PT1H
X-Robots-Tag:noindex
X-PUBLISHED-TTL:PT1H
BEGIN:VTIMEZONE
TZID:Europe/Helsinki
BEGIN:DAYLIGHT
TZOFFSETFROM:+0200
TZOFFSETTO:+0300
TZNAME:EEST
DTSTART:20230326T010000
END:DAYLIGHT
BEGIN:STANDARD
TZOFFSETFROM:+0300
TZOFFSETTO:+0200
TZNAME:EET
DTSTART:20231029T010000
END:STANDARD
END:VTIMEZONE
BEGIN:VEVENT
DTSTART;TZID=Europe/Helsinki:20230325T110000
DTEND;TZID=Europe/Helsinki:20230325T140000
DTSTAMP:20260423T000314
CREATED:20230202T164706Z
LAST-MODIFIED:20230202T165957Z
UID:1261-1679742000-1679752800@ochosentidos.com
SUMMARY:Yogarte
DESCRIPTION:Desde San Sebastián llega Yogarte. Con Nerea y Rosina nos sumergimos en el mundo del yoga y a través del arte cultivaremos la atención y la observación.Rosina Lavandera:  Diseñadora de joyas. Hija de padres artesanos. Se especializa en la técnica fusing para pintar y hornear sobre vidrio. \nNerea Garcia: Estudio Integración Social y Educación Social Instructora de Yoga y Mindfulness. Imparte clases en País Vasco. \nEs un taller abierto a todos los públicos\, no necesitas tener experiencia previa. \nEl taller consiste en conectar con el presente\, después de la bienvenida se hará una meditación para conectar con los sentidos\, luego elegiremos una pieza de vidrio dónde cada uno creará su propio diseño\, el material estará a cargo de las chicas que te guiarán en lo que necesites. Esta pieza se llevará al horno y pasaremos a tomar la clase de yoga\, presencia y movimiento\, al final pegaremos y montaremos nuestra pulsera o collar. \nPuedes venir con una amiga\, con tu madre\, con tu vecina… \nFecha y hora: 25 de marzo de 10 a 13h \nLugar: Ochosentidos C/ San Miguel 14 1-4 Zaragoza \nPrecio: 50e
URL:https://ochosentidos.com/eventos/yogarte/
CATEGORIES:Meditación,Taller,Yoga
END:VEVENT
END:VCALENDAR