BEGIN:VCALENDAR
VERSION:2.0
PRODID:-//Ocho sentidos - ECPv6.7.0//NONSGML v1.0//EN
CALSCALE:GREGORIAN
METHOD:PUBLISH
X-ORIGINAL-URL:https://ochosentidos.com
X-WR-CALDESC:Eventos para Ocho sentidos
REFRESH-INTERVAL;VALUE=DURATION:PT1H
X-Robots-Tag:noindex
X-PUBLISHED-TTL:PT1H
BEGIN:VTIMEZONE
TZID:Europe/Helsinki
BEGIN:DAYLIGHT
TZOFFSETFROM:+0200
TZOFFSETTO:+0300
TZNAME:EEST
DTSTART:20230326T010000
END:DAYLIGHT
BEGIN:STANDARD
TZOFFSETFROM:+0300
TZOFFSETTO:+0200
TZNAME:EET
DTSTART:20231029T010000
END:STANDARD
END:VTIMEZONE
BEGIN:VEVENT
DTSTART;VALUE=DATE:20230415
DTEND;VALUE=DATE:20230418
DTSTAMP:20260424T134522
CREATED:20230202T170710Z
LAST-MODIFIED:20230308T154516Z
UID:1264-1681520400-1681693199@ochosentidos.com
SUMMARY:Iyengar con José Parra
DESCRIPTION:De la mano Play Yoga y Ocho Sentidos os traemos la oportunidad de conocer diferentes estilos de yoga. \nDesde Barcelona llega José Parra para impartir un intensivo de Hatha Yoga basado en las enseñanzas del maestro B.K.S. Iyengar. Sus conocimientos de Biomecánica del cuerpo están impresos en las clases\, marcadas por las instrucciones detalladas y la capacidad de aportar herramientas a los alumnos. \nActualmente viaja a la India para profundizar en las enseñanzas de la profesora Usha Devi\, discípula del maestro B. K. S. Iyengar. \nEste estilo de yoga se caracteriza por la precisión en los ajustes psico-físicos que desarrollan las posturas\, nutridos por el campo de atención. Así como el uso de soportes\, bloques\, cinturones\, tanto a nivel pedagógico como terapéutico. \nFecha y horarios: Sábado 15 de abril 9.30 a 12.30h y de 16 a 18h \nDomingo 16 de abril de 9.30 a 12.30h \nLugar: Ocho Sentidos C/ San Miguel 14 1-4 Zaragoza \nPrecio: 90€ el fin de semana. \nBienvenidos practicantes avanzados y principiantes.
URL:https://ochosentidos.com/eventos/iyengar-con-jose-parra/
END:VEVENT
END:VCALENDAR