BEGIN:VCALENDAR
VERSION:2.0
PRODID:-//Ocho sentidos - ECPv6.7.0//NONSGML v1.0//EN
CALSCALE:GREGORIAN
METHOD:PUBLISH
X-ORIGINAL-URL:https://ochosentidos.com
X-WR-CALDESC:Eventos para Ocho sentidos
REFRESH-INTERVAL;VALUE=DURATION:PT1H
X-Robots-Tag:noindex
X-PUBLISHED-TTL:PT1H
BEGIN:VTIMEZONE
TZID:Europe/Helsinki
BEGIN:DAYLIGHT
TZOFFSETFROM:+0200
TZOFFSETTO:+0300
TZNAME:EEST
DTSTART:20230326T010000
END:DAYLIGHT
BEGIN:STANDARD
TZOFFSETFROM:+0300
TZOFFSETTO:+0200
TZNAME:EET
DTSTART:20231029T010000
END:STANDARD
END:VTIMEZONE
BEGIN:VEVENT
DTSTART;TZID=Europe/Helsinki:20230204T110000
DTEND;TZID=Europe/Helsinki:20230204T150000
DTSTAMP:20260424T004207
CREATED:20230202T172021Z
LAST-MODIFIED:20230202T172055Z
UID:1269-1675508400-1675522800@ochosentidos.com
SUMMARY:Costelaciones Familiares con Amparo
DESCRIPTION:Soy Amparo La Moneda. \nMi objetivo es poder ayudar a las personas a alcanzar su bienestar personal y poder disfrutar de la vida con alegría e ilusión. Por ello me dedico a explorar como podemos transformar todo aquello que nos limita y nos bloquea abordando tanto el plano físico como el emocional. A través de técnicas de liberación emocional como las Constelaciones Familiares\, pretendo que las personas puedan recuperar esa capacidad de curación que todos tenemos. Si estás interesado en sentirte mejor y en potenciar tu poder personal para conseguir aquello que deseas\, no dudes en contactar conmigo.
URL:https://ochosentidos.com/eventos/costelaciones-familiares-con-amparo/
END:VEVENT
END:VCALENDAR